BEGIN:VCALENDAR
VERSION:2.0
PRODID:-//vernon-prim.md - ECPv6.15.20//NONSGML v1.0//EN
CALSCALE:GREGORIAN
METHOD:PUBLISH
X-WR-CALNAME:vernon-prim.md
X-ORIGINAL-URL:https://vernon-prim.md
X-WR-CALDESC:Мероприятия для vernon-prim.md
REFRESH-INTERVAL;VALUE=DURATION:PT1H
X-Robots-Tag:noindex
X-PUBLISHED-TTL:PT1H
BEGIN:VTIMEZONE
TZID:UTC
BEGIN:STANDARD
TZOFFSETFROM:+0000
TZOFFSETTO:+0000
TZNAME:UTC
DTSTART:20220101T000000
END:STANDARD
END:VTIMEZONE
BEGIN:VEVENT
DTSTART;VALUE=DATE:20230520
DTEND;VALUE=DATE:20230528
DTSTAMP:20260423T220922
CREATED:20230116T131527Z
LAST-MODIFIED:20230116T131527Z
UID:7049-1684540800-1685231999@vernon-prim.md
SUMMARY:Путешествие на край земли
DESCRIPTION:КОСТА ДЕЛЬ СОЛЬ — МАЛАГА — РОНДА — МАРБЕЛЬЯ — ЛА ЛИНЕА — ГИБРАЛТАР — КАДИС — ХЕРЕС — ФАРУ — ПОРТИМАО ЛАГУШ — САГРЕШ — МЫС СВ.ВИКЕНТИЯ — УЭЛЬВА — СЕВИЛЬЯ — ХАЕН — ФРИХИЛИАНА — КОСТА ДЕЛЬ СОЛЬ \nЗаезды: 20.05\, 30.09 \nДень 1. Прилет в аэропорт Малаги. Встреча в аэропорту. Трансфер в отель. Размещение на побережье Коста дель Соль. \nДень 2. Завтрак. Экскурсия по Малаге. Отъезд в г. Ронда\, расположенного в горах на высоте 740 метров над уровнем моря. Посещение курорта Марбелья с небольшой остановкой в Пуэрто Банус. Продолжение пути до города Ла Линеа. Размещение в отеле. \nДень 3. Завтрак. Экскурсия в Гибралтар. Выезд в Кадис\, считающийся древнейшим городом Европы. Посещение г. Херес-де-ла-Фронтера\, что означает «Херес\, стоящий на границе». Размещение в отеле. \nДень 4. Завтрак. Переезд в Алгарве\, в Португалию. Во второй половине дня экскурсия по столице южного региона Португалии-Фару. Посещение города-порта Алгарве-Виламора. Переезд в Портимао. Размещение в отеле. \nДень 5. Завтрак. Посещения кондитерской фабрики Алгарве с дегустацией сладостей и вин. Продолжение тура – мыс Понта да Пиедаде с осмотром живописных гротов. Выезд в город Лагуш\, прогулка по историческому центру. Посещение города Сагреш и мыса Святого Викентия. Возвращение в отель. \nДень 6. Завтрак. Возвращение в Испанию с небольшой остановкой в окрестностях города Уэльва. Посещение музеев и монастырей (по желанию). Далее – переезд до столицы южной Испании – Севильи. Обзорная экскурсия по историческому центру и посещения замка Алькасар. Размещение в отеле. \nДень 7. Завтрак. Выезд в город Хаен\, экскурсия по городу. По дороге на Коста дель Соль остановка в деревушке Фрихилиана. Посещение города Авейру\, известного как «португальская Венеция». Размещение в отеле Коста дель Соль. \nДень 8. Завтрак. Трансфер в аэропорт Малаги (один для всей группы). \nСтоимость тура: 650 eur/ человек в DBL\nВ стоимость включено: проживание в отелях 3* и 4*\, автобус на весь маршрут\, трансфер по прилету и на вылет (с 08:00 — 19:00\, с 19:05 — 07:00 доплата 12 евро на человека)\, русскоязычный сопровождающий гид\, экскурсия в Гибралтар\, дегустация в кондитерской Algarve\, входные билеты в музеи/монументы: церкви St Maria и St. Lawrence\, музей Трех в Huelva\, Alcazar в Sevilla\,(в программе возможны изменения\, изменение времени и порядка посещения экскурсионных объектов)\, питание 7 завтраков \nВ стоимость не включено: авиабилеты\, налог в отелях Португалии (оплачивается на месте)\, ужины и обеды\, чаевые и сувениры \nНаш адрес: Кишинев\, ул Г. Асаки 11/1\, офис 98\nтел.  022 855385\, 022 727284\, www.vernon-prim.md
URL:https://vernon-prim.md/event/%d0%bf%d1%83%d1%82%d0%b5%d1%88%d0%b5%d1%81%d1%82%d0%b2%d0%b8%d0%b5-%d0%bd%d0%b0-%d0%ba%d1%80%d0%b0%d0%b9-%d0%b7%d0%b5%d0%bc%d0%bb%d0%b8/
CATEGORIES:Туры
ATTACH;FMTTYPE=image/jpeg:https://vernon-prim.md/wp-content/uploads/2023/01/original.jpg
END:VEVENT
BEGIN:VEVENT
DTSTART;VALUE=DATE:20230506
DTEND;VALUE=DATE:20230514
DTSTAMP:20260423T220922
CREATED:20230116T121049Z
LAST-MODIFIED:20230116T121049Z
UID:7046-1683331200-1684022399@vernon-prim.md
SUMMARY:ПИРЕНЕЙСКАЯ МОЗАИКА
DESCRIPTION:3 страны в одном туре\nБАРСЕЛОНА – АНДОРРА — АЛЬКЕСАР-АИНСА – УЭСКА — ОЛИТЕ-ПАМПЛОНА — ЛА РИОХА — ВИТОРИЯ – СУМАЯ — ГЕТАРИЯ-САН-СЕБАСТЬЯН — БИАРРИЦ — СЕН-ЖАН-ДЕ-ЛЮЗ – БАРСЕЛОНА\nЗаезды: 06.05 \nДень 1. Прилет в аэропорт Барселоны. Встреча в аэропорту. Трансфер в отель. Свободное время. \nДень 2. Завтрак. Выезд в небольшую горную страну\, расположенную в восточных Пиренеях\, Андорру. Размещение в отеле. Свободное время для покупок в столице Андорра-Ла-Велья. Вечером ужин в отеле. \nДень 3. Завтрак. После завтрака мы отправимся в Арагонские Пиренеи — сердце горной страны\, отделяющей Испанию от остальной Европы. Выезд в Алькесар. Совершим остановку у святилища Торресьюдад\, расположенного на высокой скале. Далее путь пролегает по долинам рек Эсера и Синка к живописному городку Аинса. Фоном к величественной панораме\, открывающейся со стен этого средневекового города- крепости\, является Затерянная Гора\, памятник Всемирного наследия Юнеско. После прогулки нас ждет обед\, где нам предложат типичные блюда и вино региона. Прибытие в отель и размещение. \nДень 4. Завтрак. После завтрака продолжение знакомства с Пиренеями\, где в Средневековье зародились королевства Арагон и Наварра. Первая остановка – замок Лоарре XI века\, один из самых ярких образцов военной и гражданской архитектуры в романском стиле на территории Испании и наиболее хорошо сохранившаяся романская крепость в Европе. Мы продолжим наш путь по долинам Пиренеев до древней столицы королевства Наварра – Олите\, где увидим один из самых романтичных замков Испании. Далее отправимся в современную столицу Наварры – Памплону\, где прогуляемся по старой части города\, увидим знаменитую улицу Эстафета\, где во время праздника Сан Ферминес бегут добровольцы перед стадом быков\, то\, о чем когда-то так красочно рассказал Хемингуэй в своих произведениях. Размещение в отеле и ужин. \nДень 5. Завтрак. Знакомство с признанным винным царством Испании с музея Культуры вина и винных погребов\, принадлежащих одной из самых известных винодельческих семей Испании – Виванко. Дегустация вина. Продолжим путешествие по винному маршруту Ла Риохи до городка Лагуардия\, старинной крепости\, стоящей на высоком холме\, и славящимся своими винными погребами. Продолжение пути до Витории\, признанным самым зеленым городом Европы в 2012 году. Прогулка по приезду и размещение в отеле. \nДень 6. Завтрак. После завтрака наш путь пройдет вдоль интереснейшего и малоизвестного побережья Испании Коста Баска. По дороге остановимся в маленьких рыбацких городках Гетарии и Сумае. Гетария\, лежащая на полуострове\, формой напоминающем мышь – родина Хуана Себастьяна Эль Кано- капитана\, завершившего первое кругосветное путешествие Магеллана. В Сумае мы полюбуемся необычным геологическим памятником – Берегом Флиша. Далее продолжим путь в Сан Себастьян\, часто называемый «маленьким Парижем»\, областной центр провинции Гипускуа Страны Басков. Прогулка по городу. Свободное время. Выезд во Францию\, в зону Биарритц\, размещение в отеле. \nДень 7. Завтрак. Экскурсия по Биаррицу — всемирно известному курорту\, связанному с именами Чехова\, Набокова\, Шаляпина. Увидим русскую церковь Александра Невского\, казино\, дворцы и виллы над роскошными пляжами. После экскурсии по Биаррицу отправимся в Сен-Жан-де-Люз\, старинный рыбацкий городок\, превратившийся в престижный курорт. Городок знаменит тем\, что в церкви Иоанна Крестителя в 1660 году состоялась свадьба будущего короля – солнце Людовика XIV и испанской инфанты Марии Терезии. Выезд в Испанию. Приезд в отель вечером. Размещение в отеле. \nДень 8. Завтрак. Трансфер в аэропорт Барселоны. \nСтоимость тура: 650 eur\nВ стоимость включено: проживание в отелях 3* и 4*\, автобус на весь маршрут\, трансфер по прилету и на вылет (с 08:00 — 19:00\, с 19:05 — 07:00 доплата 12 евро на человека)\, русскоязычный сопровождающий гид\, входные билеты в Замок Лоарре\, питание 7 завтраков\, 1 обед\, 1 ужин и винная дегустация. \nВ стоимость не включено: авиабилеты\, налог в отелях Барселоны (оплачивается на месте)\, чаевые и сувениры \nНаш адрес: Кишинев\, ул Г. Асаки 11/1\, офис 98\nтел.  022 855385\, 022 727284\, www.vernon-prim.md
URL:https://vernon-prim.md/event/%d0%bf%d0%b8%d1%80%d0%b5%d0%bd%d0%b5%d0%b9%d1%81%d0%ba%d0%b0%d1%8f-%d0%bc%d0%be%d0%b7%d0%b0%d0%b8%d0%ba%d0%b0/
LOCATION:Europe
CATEGORIES:Туры
ATTACH;FMTTYPE=image/jpeg:https://vernon-prim.md/wp-content/uploads/2023/01/jljawl1a405470.jpg
END:VEVENT
BEGIN:VEVENT
DTSTART;VALUE=DATE:20230429
DTEND;VALUE=DATE:20230509
DTSTAMP:20260423T220922
CREATED:20230103T085630Z
LAST-MODIFIED:20230103T085630Z
UID:6945-1682726400-1683590399@vernon-prim.md
SUMMARY:АЛЬПИЙСКАЯ БАЛЛАДА
DESCRIPTION:Австрия — страна\, подарившая миру вальс\, оперу\, шницель и лыжи\, заслуживает отдельного внимания каждого путешественника. Когда-то она была сердцем мощнейшей Австро-Венгерской империи. Здесь тесно переплелись традиции и культура\, входивших тогда в ее состав народов. \nПрограмма тура: \n1 день.\nВыезд из Кишинева в 16:00 Ночной переезд. \n2 день.\nОстановка  в Хайдусобосло. Прогулка по городу.  Приезд Дебрецен. Экскурсия по городу (пешеходно -автобусная). Размещение в отеле\, посещение термальных бассейнов. Ночлег в Дебрецене (или Хайдусобосло). \n3 день.\n7:00 Завтрак. 08:00 Выезд в Вену. По дороге остановка в Братиславе. Обзорная с гидом. Свободное время. Выезд в Вену\, размещение в отеле. Ночлег. \n4 день.\nЗавтрак. 08:00 Экскурсия в Вене главная площадь\, Венская опера\, Дом Хундертвассера\, Собор св. Стефана\, Бельведер. Прогулка без гида в загородной резиденции королей в парке ШЁНБРУНН\, где жила СИСИ. Вечером по желанию посещение знаменитого Венской оперы. Ночлег в Вене. \n5 день.\nЗавтрак в отеле. 08:00 Переезд и знакомство с г. Мельк\, и Бенедиктинским аббатством\, прогулка по городу. Остановка на озере Траунзее в городке Гмунден\, прогулка по городу. Выезд в г. Зальцбург. Размещение в отеле Ночлег. \n6 день.\nЗавтрак в отеле. 08:00 Пешеходная экскурсия по Зальцбургу – город Моцарта с гидом (парк Анабель\, крепость\, ратуша\, площадь\, собор и т.д.). Переезд на озеро Санкт–Вольфганг г. Санкт–Вольфганг–им–Зальцкаммергут\, прогулка по городу\, собор св. Вольфганга\, Во́льфгангзе или Санкт-Во́льфгангзе или А́берзе — озеро в Австрии — расположено в известном курортном регионе Зальцкаммергут\, внесённом в список мирового наследия Юнеско. Выезд в г. Бад-Ишль. Прогулка императорская вилла\, пивной погреб\, парк кайзера. Выезд в г. Грац\, приезд. Ночлег. \n7 день.\nЗавтрак\, обзорная\, пешеходная экскурсия в г. Грац с гидом\, часовая башня\, крепость Шлосберг. Прогулка по городу\, по желанию посещение крепости. Свободное время. 21:00 Выезд в Бэиле Еркулане (Румыния) Ночной переезд.  \n8 день.\nПрогулка по городу\, озеро\, водопад\, музей\, посещение термальных источников. Релакс. Вечером выезд в Кишинев. Ночной переезд. \n9 день.\nПриезд в Кишинев поздно вечером. \nЗаезды: 29.04-08.05; 26.08-03.09 \nСтоимость: 515 euro/1 человек в двухместном номере \nВ стоимость входит: транспорт по всему маршруту\, обзорная экскурсия с гидом в Дебрецен\, Братиславе\, Вене\, Зальцбурге\, Грац\, 5 ночей в отеле с завтраком\, медстраховка\, (от 60 лет доп — но оплачивается 200 леев и больше). \nВ стоимость не включено: местные налоги или  таксы в отеле\, (если есть оплачивается на месте лично каждым туристом) \, входные билеты  в туробъекты. \nЦЕНА ПРИ 100% ОПЛАТЕ ДО 01.02.23 — 485 евро\nЦЕНА ПРИ 100% ОПЛАТЕ ДО 15.02.23 — 490 евро\nОбращаться по телефонам : 022 855385    079721930    068695989\nНАШ АДРЕС : Кишинёв\, ул. Г. Асаки 11/1\, офис 98
URL:https://vernon-prim.md/event/%d0%b0%d0%bb%d1%8c%d0%bf%d0%b8%d0%b9%d1%81%d0%ba%d0%b0%d1%8f-%d0%b1%d0%b0%d0%bb%d0%bb%d0%b0%d0%b4%d0%b0/
LOCATION:Europe
CATEGORIES:Туры
ATTACH;FMTTYPE=image/jpeg:https://vernon-prim.md/wp-content/uploads/2023/01/viena-84453491.jpg
END:VEVENT
BEGIN:VEVENT
DTSTART;VALUE=DATE:20230422
DTEND;VALUE=DATE:20230430
DTSTAMP:20260423T220922
CREATED:20230116T132927Z
LAST-MODIFIED:20230116T132927Z
UID:7058-1682121600-1682812799@vernon-prim.md
SUMMARY:Короли и замки Испании
DESCRIPTION:МАДРИД-ТОЛЕДО-АВИЛА-СЕГОВИЯ-ПЕНЬЯФЬЕЛЬ-ВАЛЬЯДОЛИД-ЛА ГРАНХА-ЭЛЬ ЭКСКОРИАЛ-АЛЬКАЛА ДЕ ЭНАРЕС-МАДРИД \nЗаезды: 22.04  \nДень 1. Прилет в аэропорт Мадрида. Встреча в аэропорту. Трансфер в отель. Размещение в отеле. Свободное время. \nДень 2. Завтрак. Выезд в средневековый Толедо\, город\, который называли «Cветом всего мира». Пешеходная экскурсия по городу. Посещение Кафедрального собора (по желанию). Свободное время. Размещение в отеле. \nДень 3. Завтрак. Выезд в Авилу\, прогулка по средневековому старому городу. Выезд в Сеговию. Обзорная экскурсия с осмотром Акведука и внешним осмотром замка Алькасара\, построенного в XII веке. Размещение в отеле \nДень 4. Завтрак. Выезд в Вальядолид. По дороге остановка в Пеньяфьель\, посещение винных погребов известнейшего на весь мир винодельческого района Рибера дель Дуэро с дегустацией вина. Приезд в Вальядолид. Пешеходная экскурсия по центру города с посещением замка Castillo de Peñafiel. Размещение в отеле. \nДень 5. Завтрак. Выезд в Королевский дворец Ла Гранха де Сан Ильдефонсо – загородную резиденцию испанских королей. Выезд в Сан Лоренцо дель Эскориал – королевскую резиденцию испанских монархов. Посещение Эскориала. Размещение в отеле. \nДень 6. Завтрак. Экскурсия в Алькала-де-Энарес . Посещения живописного дворца Ларедо. Возвращение в Мадрид. Свободное время для посещения Королевского дворца. \nДень 7. Завтрак. Свободный день. \nДень 8. Завтрак. Трансфер в аэропорт Мадрида. Завершение тура. \nСтоимость тура: 620 eur\nВ стоимость включено: проживание в отелях 3* и 4*\, автобус на весь маршрут\, трансфер по прилету и на вылет (с 08:00 — 19:00\, с 19:05 — 07:00 доплата 12 евро на человека)\, русскоязычный сопровождающий гид\, входные билеты: дегустация вина Vino de Duero\, посещение замка La Granja de San Ildefonso\, королевского комплекса Escorial\, дворец Ларедо\, Castillo de Peñafiel (в программе возможны изменения\, изменение времени и порядка посещения экскурсионных объектов)\, питание: 7 завтраков\nВ стоимость не включено: авиабилеты\, ужины и обеды\, чаевые и сувениры \nНаш адрес: Кишинев\, ул Г. Асаки 11/1\, офис 98\nтел.  022 855385\, 022 727284\, www.vernon-prim.md
URL:https://vernon-prim.md/event/%d0%ba%d0%be%d1%80%d0%be%d0%bb%d0%b8-%d0%b8-%d0%b7%d0%b0%d0%bc%d0%ba%d0%b8-%d0%b8%d1%81%d0%bf%d0%b0%d0%bd%d0%b8%d0%b8/
LOCATION:Europe
CATEGORIES:Туры
ATTACH;FMTTYPE=image/jpeg:https://vernon-prim.md/wp-content/uploads/2023/01/madrid-mae-otdyh-pogoda-8_1155354130.jpg
END:VEVENT
BEGIN:VEVENT
DTSTART;VALUE=DATE:20230313
DTEND;VALUE=DATE:20231021
DTSTAMP:20260423T220922
CREATED:20230116T133517Z
LAST-MODIFIED:20230116T133517Z
UID:7062-1678665600-1697846399@vernon-prim.md
SUMMARY:Горячая Испанская десятка
DESCRIPTION:БАРСЕЛОНА-САРАГОСА-МАДРИД-ТОЛЕДО- ПУЭРТО ЛАПИСЕ-СЕВИЛЬЯ-РОНДА -ГРАНАДА -ВАЛЕНСИЯ- БАРСЕЛОНА \nЗаезды:\nPremium: 25.03\, 01.04\, 15.04\, 29.04\, 13.05\, 27.05\, 10.06\, 01.07\, 05.08\, 02.09\, 09.09\, 16.09\, 23.09\, 30.09\, 14.10\, 28.10\nStandard: 25.06\, 23.07\, 20.08\, 17.09\, 01.10 \n День 1. Прилет в аэропорт Барселоны. Встреча в аэропорту. Трансфер и размещение в отеле. \nДень 2. Завтрак. Обзорная экскурсия по Барселоне с посещением Готического квартала и осмотром архитектурного модернизма Антонио Гауди. Отъезд в Мадрид. По дороге — остановка в Сарагосе для осмотра собора Девы Пилар. Прибытие в Мадрид. Размещение в отеле и ужин*. \nДень 3. Завтрак. Обзорная экскурсия по Мадриду автобусная и пешеходная. Свободное время для посещения музея Прадо (по желанию). \nДень 4. Завтрак. Отъезд в Толедо. Пешеходная экскурсия по центру. Выезд в Севилью с остановкой в Пуэрто Лаписе\, типичном кастильском городке. Прибытие в Севилью\, размещение в отеле и ужин*. \nДень 5. Завтрак. Обзорная экскурсия по центру города. Переезд в Ронду. Пешеходная прогулка и осмотр основных достопримечательностей. Переезд в Гранаду. Размещение в отеле. Ужин*. \nДень 6. Завтрак. Осмотр центра города и основных достопримечательностей и время для обеда. Выезд в Валенсию. Прибытие в отель вечером. Размещение\, ужин* \nДень 7. Завтрак. Обзорная экскурсия по Валенсии с осмотром исторического центра Обед* в ресторане в Валенсии с традиционной валенсийской паэльей. Выезд в Барселону. Прибытие вечером и размещение в отеле. Посещение светомузыкального шоу «Волшебный фонтан». \nДень 8. Трансфер в аэропорт Барселоны. Завершение тура. \nСтоимость тура:\nPremium — 555 eur\nStandard — 455 eur\nВ стоимость включено: проживание в отелях 3* и 4*\, автобус на весь маршрут\, трансфер по прилету и на вылет (с 08:00 — 19:00\, с 19:05 — 07:00 доплата 12 евро на человека)\, русскоязычный сопровождающий гид\, входные билеты (входные билеты в музеи/монументы в стоимость тура Standard не включены и оплачиваются дополнительно. Пакет входных билетов или отдельно экскурсию можно будет приобрести на месте у гида. Билеты по программе Premium: Толедо: Санта-Мария-ла-Бланка / Севилья: собор / Гранада: Альгамбра. В программе возможны изменения\, изменение времени и порядка посещения экскурсионных объектов)\, питание (Standard: 7 завтраков\, Premium: 7 завтраков и 4 ужина в отеле + обед паэлья в Валенсии.) \nВ стоимость не включено: авиабилеты\, налог в отелях Барселоны (оплачивается на месте)\, чаевые и сувениры \nНаш адрес: Кишинев\, ул Г. Асаки 11/1\, офис 98\nтел.  022 855385\, 022 727284\, www.vernon-prim.md
URL:https://vernon-prim.md/event/%d0%b3%d0%be%d1%80%d1%8f%d1%87%d0%b0%d1%8f-%d0%b8%d1%81%d0%bf%d0%b0%d0%bd%d1%81%d0%ba%d0%b0%d1%8f-%d0%b4%d0%b5%d1%81%d1%8f%d1%82%d0%ba%d0%b0/
LOCATION:Europe
CATEGORIES:Туры
ATTACH;FMTTYPE=image/jpeg:https://vernon-prim.md/wp-content/uploads/2023/01/1494149904_sagrada-familia-antoni-gaudi.jpg
END:VEVENT
BEGIN:VEVENT
DTSTART;VALUE=DATE:20230305
DTEND;VALUE=DATE:20230313
DTSTAMP:20260423T220922
CREATED:20230102T103116Z
LAST-MODIFIED:20230102T103808Z
UID:6899-1677974400-1678665599@vernon-prim.md
SUMMARY:ПО СЛЕДАМ ВЕЛИКИХ ЦИВИЛИЗАЦИЙ
DESCRIPTION:За семь дней вы побываете в 10 старинных и современных городах Турции\, познакомитесь с 5 древними цивилизациями мира\, побываете в Европе и Азии\, зайдете более чем в 20 уникальных архитектурных ансамблей\, и увидите не меньше тысячи древних вещей\, реликвий\, фресок и статуй\, общий возраст которых составит не меньше 100 тысяч лет. \nПрограмма Тура: \n1 День (Воскресенье) День заезда\nПосле того\, как вас встретили в аэропорту\, и привезли в гостиницу\, вы можете отдохнуть\, принять ванну и поужинать в уютном ресторане отеля. После этого прогуляйтесь в районе возле гостиницы\, только совсем чуть-чуть\, потому что настоящее путешествие для вас начинается завтра. \n2 День (Понедельник)\nПосле завтрака (08:15) путешествие начинается\, вы едете в столицу Турции\, Анкару! Сегодня вы увидите огромный музей Ататюрка – место\, где собрано все\, связанное с Турецкой Республикой: от эксклюзивных автомобилей ее основателя Ататюрка\, до огромных панорам\, восстанавливающих события войны Турции за независимость 20-хх годов прошлого века. Затем мы посещаем Музей Анатолийских Цивилизаций \, где вы впервые в жизни увидите предметы\, сделанные людьми сорок тысяч лет назад. Прогулка по стенам крепости Анкара и далее едем в отель. Ужин в ресторане отеля (19:00 — 20:00). \n3 День (Вторник)\nОтдохнув в отеле и позавтракав (08:15)\, вы едете в Каппадокию. По пути у вас будет остановка на берегу второго по величине соленого озера в Турции. Сегодня начинается ваше знакомство с Каппадокией. Вы увидите самый красивый вид на Земле – огромное горное плато\, усыпанное церквями\, монастырями и домами в скалах. Вы посетите долину Любви\, долину Фей\, долину Голубей и многое другое. Вечером за дополнительную плату вам предложат посетить представление Дервишей ночь. (21:00 — 22:00). Ужин в в отеле (19:00 — 20:00). \n4 День (Среда)\nНа рассвете за дополнительную плату у Вас будет возможность полетать на воздушном шаре. После завтрака (выезд в 08:15 — 08:30) продолжится ваше знакомство с Каппадокией\, вы посетите долины с уникальными скальными образованиями\, подземный город Каймаклы\, монастырский комплекс Гёреме с его уникальными фресками в десятках церквушек\, вырубленных прямо в скалах. Вы побываете в мастерской керамики\, где на ваших глазах будут создаваться уникальные изделия (причем вы сможете попробовать сделать вазу на\nгончарном круге своими руками!). У вас будет возможность увидеть\, как ткутся знаменитые турецкие ковры и увидеть “ковер-самолет” воочию. Ужин и отдых в отеле (17:00 — 18:00). Если захочется\, вас ждет зажигательная «Турецкая ночь» (21:30 — 23:30). \n5 День (Четверг)\nЗавтрак (выезд в 08:15 — 08:30). Первая остановка в 09:00 — 10:30 (санитарная). Путешествие в Конию\, после которого – прогулка по религиозному комплексу Мевляна. Мевляна – старинный восточный монастырь\, пристанище монахов\, поэтов и философов. Центр суфийской культуры. Его основал сам Мевляна Руми – его роль в поэзии Востока велика так же\, как Пушкина – в русской. Только Руми это еще и основатель ордена дервишей – танцующих монахов. Выезд из Конии в 12:00 — 14:00. Обед — 14:00 — 16:00. Вторая остановка — 16:00 — 18:00. Переварить впечатления от Мевляны вы сможете во время путешествия в Памуккале. А после него поужинаете в гостинице и хорошо отдохнете (прибытие в отель — 18:00 — 20:00). \n6 День (Пятница)\nС самого утра после завтрака (выезд из отеля в 08:00 — 08:15) вы увидите огромное античное кладбище Гиераполис. Огромные склепы\, хранящие прохладу и сумрак вот уже двадцать веков\, поразят вас своими размерами. А после них вы попадете на травертины! Прекрасные белые горы\, по которым течет горячая минеральная вода\, с огромным числом естественных бассейнов… За дополнительную плату вы сможете поплавать в бассейне Клеопатры. Выезд из Памуккале — 11:30 — 12:00. Обед — 12:30. Санитарная остановка — 14:30. Далее переезд в древний город Сельчук. Здесь вас ждет античный город Эфес — один из центров раннего христианства\, церковь святого Иоана и Дом Богородицы\, где можно загадать желание и остатки храма Артемиды\, сожженного Геростратом… (прибытие в Эфес в 15:30 — 16:00). Вы разместитесь в уютном отеле на берегу моря в городе Кушадасы. Ужин. После ужина вы сможете прогуляться по городу и вдохнуть запах Эгейского моря. \n7 День (Суббота)\nЗавтрак. Выезд из отеля в 08ш00 — 08:15. Через час — Измир (проездом). 13:00 — обед. Переезд в Пергам. После отдыха в отеле вы побываете в столице Пергамского царства\, от названия которого произошло слово «пергамент». И прикоснетесь к стенам античной библиотеки\, где впервые в мире появилась книга в ее нынешнем виде. Оттуда вы попадете в роскошный храм императора Траяна\, увидите подножие алтаря Зевса и великолепный горный театр\, зрительные ряды которого расположены на крутом склоне горы… Сегодня вы ночуете и ужинаете в уютном отеле на берегу моря в небольшом городке Айвалык. Прибытие 17:00 — 18:00. \n8 День (Воскресенье)\nУтром завтрак (выезд из отеля в 07:30) и переезд в легендарную Трою. Вы побываете в той самой Трое\, которую захватили благодаря хитроумному Одиссею. Увидите поле\, по которому Ахилл волочил за своей колесницей тело Гектора. Посетите Музей Трои. Далее пересечете пролив Дарданеллы. 12:00 — Чанаккале. 13:30 — обед. 16:00 Санитарная остановка. И попадете в Стамбул\, (19:00 — 20:00) где ваше путешествие закончится. \nЗаезды: 05.03.23; 19.03.23; 02.04.23; 09.04.23; 23.04.23; 30.04.23; 07.05.23; 21.05.23; 04.06.23; 10.09.23; 24.09.23; 08.10.23; 15.10.23; 22.10.23; 29.10.23; 05.11.23; 19.11.23; 29.12.23; 02.01.24.\n \nСтоимость:\n650 euro/1 человек в двухместном номере\n785 euro — одноместный номер\n635 euro/1 человек в трехместном номере\n500 euro — ребенок (7-11\,99) вместе в 2 взрослыми \nВ стоимость включено: групповой трансфер Новый аэропорт — отель — Новый аэропорт; проживание в отелях 3-4*; питание завтраки + ужины (напитки за ужином не включены); переезды на комфортабельном автобусе; услуги профессионального русскоговорящего гида-экскурсовода; входные билеты в музеи.  \nНаш адрес: Кишинев\, ул Г. Асаки 11/1\, офис 98 тел. 022 85 53 85
URL:https://vernon-prim.md/event/6899/
LOCATION:Turcia\, Istanbul
CATEGORIES:Туры
ATTACH;FMTTYPE=image/jpeg:https://vernon-prim.md/wp-content/uploads/2023/01/iStock-11302880281000_d_850.jpg
END:VEVENT
BEGIN:VEVENT
DTSTART;VALUE=DATE:20230213
DTEND;VALUE=DATE:20230215
DTSTAMP:20260423T220922
CREATED:20230102T122738Z
LAST-MODIFIED:20230102T122738Z
UID:6904-1676246400-1676419199@vernon-prim.md
SUMMARY:CТАМБУЛ - ГОРОД НА ДВУХ КОНТИНЕНТАХ
DESCRIPTION:Загадочный и величественный\, шумный и сказочно красивый\, Стамбул — это мост между Европой и Азией\, между традиционным Востоком и современным Западом. За всю свою богатую историю он успел сменить несколько имен и побывать столицей четырех империй: Римской и Византийской\, Османской и Латинской. \nПрограмма тура: \n1 ДЕНЬ.\nВыезд из Кишинева. 06:00. (Хынчештское шоссе\, 94) \n2 ДЕНЬ.\nУтром\, приезд в Стамбул (ориентировочно +- 08:00) . Экскурсия пешеходная ГОРОД КОНТРАСТОВ ПЕШЕХОДНАЯ ЭКСКУРСИЯ Мечеть Айя София\, Топкапы\, Голубая мечеть \, Цистерна Базилика\, Пешеходная улица Истикляль\, Башня Галата. Св. время: рекомендуем посетить комплекс Айя София\, Голубую мечеть\, мечеть\, где похоронена Роксолана. Сбор группы у автобуса на набережной 13:30\, выезд к отелю. Расселение в отеле. Свободное время. Желающие могут поехать на бесплатную экскурсию на фабрику кожаных изделий : сумки\, пальто\, куртки\, обувь…..по ОЧЕНЬ низким ценам . поездка !!!! БЕСПЛАТНАЯ — GRATIS \, на индивидуальной легковой машине с гидом и консультантами или продолжить посещение тур объектов . Ночлег в отеле. \n3 ДЕНЬ.\n07:00-08:30 Завтрак в отеле. 08:30-08:55 Выселение из отеля\, сдача ключей от номеров и багажа в автобус. 09:00 Обзорная автобусная экскурсия в Стамбуле. «ГОРОД на ДВУХ КОНТИНЕНТАХ» Галацский мост\, Гранд Базар\, Генузская крепость\, Железная церковь\, Султан базар (магазин пряностей и сладостей)… Свободное время. Факультативно : прогулка по Босфору 2 часа. Босфо́р — пролив между Европой и Малой Азией\, соединяющий Чёрное море с Мраморным. В паре с Дарданеллами соединяет Чёрное море с Эгейским\, которое является частью Средиземного моря . На обеих сторонах пролива расположен Стамбул. Свободное время. Посещение магазинов….\nЖелающие могут поехать на бесплатную (GRATIS) экскурсию на фабрику кожаных изделий. 20:00 Выезд из Стамбула в Кишинев. \n4 ДЕНЬ.\nПрибытие в Кишинев. \nЗаезды: 13.02-14.02; 06.03.-07.03.; 17.04.-19.04. 30.09.-01.10.; 21.10.-22.10.; 18.11.-19.11. \nСтоимость: 145 euro/1 человек в двухместном номере \nВ стоимость входит: транспорт по всему маршруту \, обзорная и тематическая экскурсия с гидом \, 1 ночлег в отеле с завтраком\, медстраховка \nФакультативно: экскурсия по Босфору. – от 15 евро . Дополнительно оплачивается: входные билеты в музеи по желанию : Собор Св. Софии — вход бесплатный; Дворец Топкапы — 11 $ (для детей до 12 лет вход бесплатный; Цистерна Базилика: 5 $(для детей до 8 лет вход бесплатный) Вход в Голубую мечеть бесплатно (действующая мечеть) Обед\, ужин и личные раcходы. В свободное время транспорт не предусмотрен. \nОбращаться по телефонам : 022 855385    079721930    068695989\nНАШ АДРЕС : Кишинёв\, ул. Г. Асаки 11/1\, офис 98  
URL:https://vernon-prim.md/event/c%d1%82%d0%b0%d0%bc%d0%b1%d1%83%d0%bb-%d0%b3%d0%be%d1%80%d0%be%d0%b4-%d0%bd%d0%b0-%d0%b4%d0%b2%d1%83%d1%85-%d0%ba%d0%be%d0%bd%d1%82%d0%b8%d0%bd%d0%b5%d0%bd%d1%82%d0%b0%d1%85-2/
CATEGORIES:Туры
ATTACH;FMTTYPE=image/jpeg:https://vernon-prim.md/wp-content/uploads/2023/01/1768212639_0_269_2803_1846_1920x0_80_0_0_21e020a69e155c0c55c8b111744a2a3b.jpg
END:VEVENT
END:VCALENDAR