BEGIN:VCALENDAR
VERSION:2.0
PRODID:-//vernon-prim.md - ECPv6.15.20//NONSGML v1.0//EN
CALSCALE:GREGORIAN
METHOD:PUBLISH
X-ORIGINAL-URL:https://vernon-prim.md
X-WR-CALDESC:Мероприятия для vernon-prim.md
REFRESH-INTERVAL;VALUE=DURATION:PT1H
X-Robots-Tag:noindex
X-PUBLISHED-TTL:PT1H
BEGIN:VTIMEZONE
TZID:UTC
BEGIN:STANDARD
TZOFFSETFROM:+0000
TZOFFSETTO:+0000
TZNAME:UTC
DTSTART:20230101T000000
END:STANDARD
END:VTIMEZONE
BEGIN:VEVENT
DTSTART;VALUE=DATE:20240308
DTEND;VALUE=DATE:20240309
DTSTAMP:20260422T234131
CREATED:20240116T112734Z
LAST-MODIFIED:20240116T113237Z
UID:7257-1709856000-1709942399@vernon-prim.md
SUMMARY:Odihna in Muntii Romaniei\,regiunea Borsec 2024
DESCRIPTION:Statiunea Borsec este recomandata in tratamentul bolilor cardiovasculare (insuficienta mitrala compensatorie si insuficienta cardiaca\, hipertensiune\, varice)\, al bolilor endocrine (hipertiroidie\, boala Basedow\, starea de prepubertate la copii supraponderali)\, dischinezie biliara\, boli digestive (gastrita cronica hipoacida\, constipatie cronica\, colita cronica nespecifica)\, colicistita cronica necalcaroasa\, tulburari renale si ale aparatului urinar\, nevroza astenica\, boli dermatologice\, metabolice si de nutritie etc. \nStatiunea este vizitata de multi turisti care vin pentru efectul curativ a apelor minerale\, dar si pentru aerul puternic de munte si peisajul deosebit de frumos din zona.\nPretul este de la 320 euro pentru 2ADL\nIn pret este inclus:\nCazare 3 nopți 4 zile\nAsigurare Medicală\nAlimentație HB ( mic dejun + cină)\nCazare la hotel Vila Riki 3* \nAtentie!!!\nTransportul nu este inclus in pretul pachetului!!!\nTransportul se ofera pentru grupuri de minim 25 persoane!!! \n 
URL:https://vernon-prim.md/event/odihna-in-muntii-romanieiregiunea-borsec-2024/
LOCATION:Romania
CATEGORIES:Excursii 2026,Лечебные Туры 2024,Туры
ATTACH;FMTTYPE=image/jpeg:https://vernon-prim.md/wp-content/uploads/2024/01/012.jpg
ORGANIZER;CN="MarinVernon":MAILTO:marinvernon55@gmail.com
END:VEVENT
BEGIN:VEVENT
DTSTART;VALUE=DATE:20240309
DTEND;VALUE=DATE:20240310
DTSTAMP:20260422T234131
CREATED:20240116T103437Z
LAST-MODIFIED:20240116T105430Z
UID:7248-1709942400-1710028799@vernon-prim.md
SUMMARY:Excursie Conacul Manuc Bey+Ferma de struti 2024
DESCRIPTION:Conacul lui Manuc Bei sau Manuc Bey (oficial – Complexul istorico-arhitectural Manuc Bey) este amplasat în orașul Hîncești din partea central-vestică a Republicii Moldova; și include următoarele edificii: Palatul lui Manuc\, Casa Vechilului\, Clădirea Contesei\, Castelul de Vânătoare\, Turnul de Veghe\, ș.a.\nFerma de struți de la Bardar. Prin anii 1990 Silvia si Igor Borjicov au adus din Germania 5 struți africani\,cu intenția de a întemeia o ferma de struți. De atunci populația s-a îmbogățit si cu alte animale: cai sălbatici\, ponei\, păuni\, fazani\, lebede negre\, căpriţe în miniatură\, (ce mai mică din lume) răţuşte şi şoimi.
URL:https://vernon-prim.md/event/excursie-conacul-manuc-beyferma-de-struti-2024/
LOCATION:Moldova\, Stefan Cel Mare 1\, Puhoi 6824\, Ialoveni\, Moldova\, Republic of
CATEGORIES:Excursii 2026,Туры
ATTACH;FMTTYPE=image/jpeg:https://vernon-prim.md/wp-content/uploads/2024/01/12-8.jpg
ORGANIZER;CN="MarinVernon":MAILTO:marinvernon55@gmail.com
END:VEVENT
END:VCALENDAR