BEGIN:VCALENDAR
VERSION:2.0
PRODID:-//vernon-prim.md - ECPv6.15.20//NONSGML v1.0//EN
CALSCALE:GREGORIAN
METHOD:PUBLISH
X-ORIGINAL-URL:https://vernon-prim.md
X-WR-CALDESC:Мероприятия для vernon-prim.md
REFRESH-INTERVAL;VALUE=DURATION:PT1H
X-Robots-Tag:noindex
X-PUBLISHED-TTL:PT1H
BEGIN:VTIMEZONE
TZID:UTC
BEGIN:STANDARD
TZOFFSETFROM:+0000
TZOFFSETTO:+0000
TZNAME:UTC
DTSTART:20230101T000000
END:STANDARD
END:VTIMEZONE
BEGIN:VEVENT
DTSTART;VALUE=DATE:20240217
DTEND;VALUE=DATE:20240218
DTSTAMP:20260423T103201
CREATED:20231222T130105Z
LAST-MODIFIED:20240206T094808Z
UID:7218-1708128000-1708214399@vernon-prim.md
SUMMARY:Excursie la Asconi Winery
DESCRIPTION:Inima vinăriei și ingredientul esențial al unui vin bun îl constituie strugurii\,VernonPrim vă invită la un tur vinicol la vinăria Asconi pentru a savura esența vinului \n\n\nAșa că am decis sa facem acest tur la Asconi Winery pe data de 17 februarie 2024\n\n\nSuma Include\nExcursie 5 vinuri\nExcursie si degustare cu 5 vinuri\nInclude excursia la vinarie�(Sectia de prelucrare si fermentare\, Sectia de cupajare\,�Sectia de îmbuteliere\, Secția de maturare).\n\nExcursiile se fac pe tot teritoriul vinăriei. Se explică tot procesul de vinificaţie de la prelucrare pîna la îmbuteliere.\nDegustarile sunt ghidate şi insoţite de mici gustări(pesmeţi\, nucuşoare) si o sticlă de apă.\nDegustarea verticală este un tip de degustare mai specializată. Se vor gusta 2 tipuri de vin (3 albe si 3 roşii) din diferiţi ani de recolta. Scopul acestei degustări este posibilitatea de a observa evoluţia vinului pe parcursul anilor şi cum este influenţat vinul de climă in fiecare an.
URL:https://vernon-prim.md/event/excursie-la-asconi-winery/
LOCATION:Moldova\, Stefan Cel Mare 1\, Puhoi 6824\, Ialoveni\, Moldova\, Republic of
CATEGORIES:Excursii 2026
ATTACH;FMTTYPE=image/jpeg:https://vernon-prim.md/wp-content/uploads/2023/12/412953826_859562602845873_3251010184160723685_n.jpg
ORGANIZER;CN="Vernon Prim":MAILTO:officevernon@gmail.com
END:VEVENT
END:VCALENDAR